BEGIN:VCALENDAR
VERSION:2.0
PRODID:-//GMD//есуа.ру//EN
CALSCALE:GREGORIAN
X-WR-TIMEZONE:Europe/Moscow
BEGIN:VTIMEZONE
TZID:Europe/Moscow
X-LIC-LOCATION:Europe/Moscow
BEGIN:STANDARD
TZOFFSETFROM:+0300
TZOFFSETTO:+0300
TZNAME:MSK
DTSTART:20260426T091500
END:STANDARD
END:VTIMEZONE
BEGIN:VEVENT
UID:2214963379
DTSTAMP:20260426T091500
DTSTART;TZID=Europe/Moscow:20260426T091500
DTEND;TZID=Europe/Moscow:20260426T140000
LOCATION:59.623613,30.487969
SUMMARY:БК: Ручеёк течёт в Саблино
DESCRIPTION:https://esya.ru/event/bk-rucheyok-techyot-v-sablino-26-04-2026?utm_source=ical
URL:https://esya.ru/event/bk-rucheyok-techyot-v-sablino-26-04-2026?utm_source=calendar
END:VEVENT
END:VCALENDAR